BEGIN:VCALENDAR
VERSION:2.0
PRODID:-//Pierre Nantas - ECPv6.15.20//NONSGML v1.0//EN
CALSCALE:GREGORIAN
METHOD:PUBLISH
X-WR-CALNAME:Pierre Nantas
X-ORIGINAL-URL:https://www.pierre-nantas-psychotherapeute.paris
X-WR-CALDESC:Évènements pour Pierre Nantas
REFRESH-INTERVAL;VALUE=DURATION:PT1H
X-Robots-Tag:noindex
X-PUBLISHED-TTL:PT1H
BEGIN:VTIMEZONE
TZID:Europe/Paris
BEGIN:DAYLIGHT
TZOFFSETFROM:+0100
TZOFFSETTO:+0200
TZNAME:CEST
DTSTART:20210328T010000
END:DAYLIGHT
BEGIN:STANDARD
TZOFFSETFROM:+0200
TZOFFSETTO:+0100
TZNAME:CET
DTSTART:20211031T010000
END:STANDARD
BEGIN:DAYLIGHT
TZOFFSETFROM:+0100
TZOFFSETTO:+0200
TZNAME:CEST
DTSTART:20220327T010000
END:DAYLIGHT
BEGIN:STANDARD
TZOFFSETFROM:+0200
TZOFFSETTO:+0100
TZNAME:CET
DTSTART:20221030T010000
END:STANDARD
BEGIN:DAYLIGHT
TZOFFSETFROM:+0100
TZOFFSETTO:+0200
TZNAME:CEST
DTSTART:20230326T010000
END:DAYLIGHT
BEGIN:STANDARD
TZOFFSETFROM:+0200
TZOFFSETTO:+0100
TZNAME:CET
DTSTART:20231029T010000
END:STANDARD
END:VTIMEZONE
BEGIN:VEVENT
DTSTART;TZID=Europe/Paris:20221206T180000
DTEND;TZID=Europe/Paris:20221206T210000
DTSTAMP:20260421T143824
CREATED:20221128T095927Z
LAST-MODIFIED:20221128T095927Z
UID:2069-1670349600-1670360400@www.pierre-nantas-psychotherapeute.paris
SUMMARY:Soirée signature
DESCRIPTION:Participez à la soirée signature que j’organise le 6 décembre prochain dans les locaux de ma maison d’édition l’Harmattan\, 21 bis rue des écoles 75005 Paris de 18.00 à 21.00.\nCe sera l’occasion d’échanger à propos du trouble de la personnalité borderline avec toutes celles et ceux qui sont concernés par ce sujet.\nLe nombre de places étant limité\, je vous remercie de me confirmer votre participation par mail. \nA très bientôt \n  \n 
URL:https://www.pierre-nantas-psychotherapeute.paris/event/soiree-signature/
CATEGORIES:Soirée conférence débat
ATTACH;FMTTYPE=image/jpeg:https://www.pierre-nantas-psychotherapeute.paris/wordpress/wp-content/uploads/2019/05/Le-système-borderline.jpg
ORGANIZER;CN="Pierre NANTAS":MAILTO:pn.psycoach@gmail.com
END:VEVENT
END:VCALENDAR