BEGIN:VCALENDAR
VERSION:2.0
PRODID:-//Pierre Nantas - ECPv6.15.20//NONSGML v1.0//EN
CALSCALE:GREGORIAN
METHOD:PUBLISH
X-ORIGINAL-URL:https://www.pierre-nantas-psychotherapeute.paris
X-WR-CALDESC:Évènements pour Pierre Nantas
REFRESH-INTERVAL;VALUE=DURATION:PT1H
X-Robots-Tag:noindex
X-PUBLISHED-TTL:PT1H
BEGIN:VTIMEZONE
TZID:Europe/Paris
BEGIN:DAYLIGHT
TZOFFSETFROM:+0100
TZOFFSETTO:+0200
TZNAME:CEST
DTSTART:20180325T010000
END:DAYLIGHT
BEGIN:STANDARD
TZOFFSETFROM:+0200
TZOFFSETTO:+0100
TZNAME:CET
DTSTART:20181028T010000
END:STANDARD
BEGIN:DAYLIGHT
TZOFFSETFROM:+0100
TZOFFSETTO:+0200
TZNAME:CEST
DTSTART:20190331T010000
END:DAYLIGHT
BEGIN:STANDARD
TZOFFSETFROM:+0200
TZOFFSETTO:+0100
TZNAME:CET
DTSTART:20191027T010000
END:STANDARD
BEGIN:DAYLIGHT
TZOFFSETFROM:+0100
TZOFFSETTO:+0200
TZNAME:CEST
DTSTART:20200329T010000
END:DAYLIGHT
BEGIN:STANDARD
TZOFFSETFROM:+0200
TZOFFSETTO:+0100
TZNAME:CET
DTSTART:20201025T010000
END:STANDARD
END:VTIMEZONE
BEGIN:VEVENT
DTSTART;VALUE=DATE:20191218
DTEND;VALUE=DATE:20191221
DTSTAMP:20260426T010924
CREATED:20190903T175253Z
LAST-MODIFIED:20190917T134809Z
UID:1514-1576627200-1576886399@www.pierre-nantas-psychotherapeute.paris
SUMMARY:Formation à l'évaluation et à la psychothérapie du trouble de la personnalité borderline
DESCRIPTION:Trouble bipolaire\, personnalité HP ou borderline\, les professionnels de santé peuvent éprouver des difficultés à se prononcer sur le type de trouble exprimé par le patient.\nAfin de leur permettre de mieux appréhender la nature du trouble auquel il sont confrontés\, j’animerai en octobre et novembre une formation de deux fois trois jours qui propose une méthodologie spécialement conçue pour répondre à ces besoins. Pour en savoir plus et vous inscrire\, rendez vous sur le site www.aforpel.org.
URL:https://www.pierre-nantas-psychotherapeute.paris/event/formation-a-levaluation-et-a-la-psychotherapie-du-trouble-de-la-personnalite-borderline/
LOCATION:Cabinet Pierre NANTAS\, 188 avenue de Versailles\, Paris\, 75016\, France
CATEGORIES:Formation pour les professionnels de santé
END:VEVENT
END:VCALENDAR